BEGIN:VCALENDAR
PRODID:-//hacksw/handcal//NONSGML v1.0//EN
VERSION:2.0
METHOD:PUBLISH
BEGIN:VEVENT
DTSTART:20260507T203000Z
DTEND:20260507T223000Z
LOCATION:Traverse City Country Club
UID:2948220260507T203000ZFarm Succession and Farmland Issues
DTSTAMP:20260424T132933Z
DESCRIPTION:\nJoin us to learn about the primary considerations and challenges to keep in mind as you're supporting clients with farmland or other real estate related assets. Refreshments will include light appetizers, non-alcoholic drinks, and drink tickets for purchase of alcoholic beverages. \nTopics will include considerations such as farm succession, distribution/equalization ideas for distributing the estate among farm and non-farm children, sale of development rights, purchasing development rights on properties that were once farms, and other agriculture land use topics including solar agreements, agritourism and ancillary uses. \nEvent Schedule:\n 4:30pm - Doors open for networking and refreshments 5:00pm - 6:00pm - Program and Q+A 6:00pm - 6:30pm - Additional networking time \nCost to attend $75 \nFriendly reminder to [become a member](https://www.gtaepc.org/members/application) or [renew your membership](https://www.gtaepc.org/members/renewal) today!\n ------\n\nAbout the Speaker \nDanelle Harrington is a [Warner Norcross + Judd](https://www.wnj.com/people/danelle-e-harrington/) partner and estate planning attorney who focuses her practice on trusts and estates â assisting individuals, families and businesses in planning for today and generations to come. Within her practice, Danelle helps clients develop and fine tune their estate plans and manage probate and trust administration after the death of a loved one – a daunting area of law where she excels. She drafts and prepares power of attorney, health patient advocate documents, wills, trusts and all other compilations necessary to estate planning packages. \nIn addition to trusts, estates and post-death administration, Danelle counsels businesses on entity formation, succession planning and real estate issues involving farmland. A particular area of specialty includes farmland transactions involving real estate and drafting and reviewing solar energy agreements and other alternative energy agreements. \nHaving grown up on her family’s farm, Danelle understands her clients’ mindset and attachment to farmland, including the assets they’ve worked so hard to protect. That’s why she’s at her finest in every interaction – providing sound advice and advocacy to achieve the best results. And, she offers this advice in a down-to-earth and comprehensive manner, omitting complicated legalese that can often confuse and distract from the task at hand.
SUMMARY:Farm Succession and Farmland Issues - Estate Planning Council of Grand Traverse Area 
PRIORITY:3
BEGIN:VALARM
TRIGGER:PT18H
ACTION:DISPLAY
DESCRIPTION:Reminder
END:VALARM
END:VEVENT
END:VCALENDAR